BEGIN:VCALENDAR
VERSION:2.0
PRODID:icalendar-ruby
CALSCALE:GREGORIAN
BEGIN:VEVENT
DTSTAMP:20260424T104522Z
UID:PIiYpw
DTSTART;VALUE=DATE:20181220
DTEND;VALUE=DATE:20181221
CLASS:PUBLIC
CREATED:20181119T101158
DESCRIPTION: **“On 20th December 2018\, we went totally Java. The talks w
 ere presented by Oracle’s Chris Hegarty and Workday engineer and DubJUG 
 member Anton Balaniuc. \n\n The full talk abstracts were shared below. The
  Dublin 2 venue was revealed on booking. \n\n . \n\n REGISTRATION NOTES \n
 \n The Dublin Java User Group meetups are designed to enhance the knowledg
 e of developers and technology professionals*. Due to the overwhelming dem
 and to attend our events they are always full. \n\n We reserve the right t
 o cancel bookings if you are not aligned to our intended audience. No refu
 nds are given for ticket cancellations or no-shows. Check your diary caref
 ully before booking! \n\n Email Team@DubJUG.org if you're interested in be
 coming a coveted Platinum Member of the Ireland's longest running\, most r
 espected and most active Java User Group. \n\n MORE DUBLIN JAVA USER GROUP
  EVENTS \n\n **Interested in meeting Java Rockstars? Check out our other D
 ublin Java User Group events - ** DubJUG.org \n
LAST-MODIFIED:20250718T104147
LOCATION:Dublin City Centre
ORGANIZER:mailto:team@DubJUG.org
SUMMARY:Java 11 HTTP Client / Java 9 Platform Module System (JPMS)
URL;VALUE=URI:https://ti.to/dublin-java-user-group/Java-11-HTTP-Client-Java
 -9-Platform-Module-System-JPMS
URL;VALUE=URI:https://ti.to/dublin-java-user-group/Java-11-HTTP-Client-Java
 -9-Platform-Module-System-JPMS
END:VEVENT
END:VCALENDAR
