BEGIN:VCALENDAR
VERSION:2.0
PRODID:icalendar-ruby
CALSCALE:GREGORIAN
BEGIN:VEVENT
DTSTAMP:20260424T105355Z
UID:n4W3pg
DTSTART;VALUE=DATE:20211221
DTEND;VALUE=DATE:20211222
CLASS:PUBLIC
CREATED:20211202T101712
DESCRIPTION: Local Java developer and DubJUG Co-Lead\, Barry Evans\, presen
 ted DubJUG’s first in-person event (since March 2020) on the evening of 
 December 21st. \n\n REGISTRATION NOTES \n\n The Dublin Java User Group eve
 nts are designed to enrich the knowledge and careers of developers and tec
 hnology professionals. By booking your seat\, you agree to the booking con
 ditions \n\n You must be fully vaccinated\, bringing your cert and ID with
  you. Spaces are limited. \n\n PLATINUM MEMBERSHIP \n\n Due to the overwhe
 lming demand to attend\, our events are always full. Priority booking is o
 ffered to our Platinum Members. Email Team@DubJUG.org if you'd like to kno
 w more about becoming a coveted Platinum Member of the Ireland's longest r
 unning\, most respected and most active Java User Group. \n\n MORE DUBLIN 
 JAVA USER GROUP EVENTS \n\n Interested in meeting Java Rockstars? Check ou
 t our other Dublin Java User Group events - DubJUG.org \n
LAST-MODIFIED:20250718T102413
LOCATION:Dublin City Centre
ORGANIZER:mailto:team@DubJUG.org
SUMMARY:December 2021 - Barry Evans
URL;VALUE=URI:https://ti.to/dublin-java-user-group/Dec-2021-Barry-Evans
URL;VALUE=URI:https://ti.to/dublin-java-user-group/Dec-2021-Barry-Evans
END:VEVENT
END:VCALENDAR
