BEGIN:VCALENDAR
VERSION:2.0
PRODID:icalendar-ruby
CALSCALE:GREGORIAN
BEGIN:VEVENT
DTSTAMP:20260424T105359Z
UID:1c6g4g
DTSTART;VALUE=DATE:20191204
DTEND;VALUE=DATE:20191205
CLASS:PUBLIC
CREATED:20191023T190245
DESCRIPTION: Brazilian Java Champion and Duke Award Winner\, Otavio Santana
  visited the Oracle Dublin Java User Group in December. Subscribers were n
 otified when the talks were announced. \n\n REGISTRATION NOTES \n\n The Du
 blin Java User Group events are designed to enrich the knowledge and caree
 rs of developers and technology professionals. By booking your seat\, you 
 agree to the booking conditions \n\n PLATINUM MEMBERSHIP \n\n Due to the o
 verwhelming demand to attend\, our events are always full. Priority bookin
 g is offered to our Platinum Members. Email Team@DubJUG.org if you'd like 
 to know more about becoming a coveted Platinum Member of the Ireland's lon
 gest running\, most respected and most active Java User Group. \n\n MORE D
 UBLIN JAVA USER GROUP EVENTS \n\n Interested in meeting Java Rockstars? Ch
 eck out our other Dublin Java User Group events - DubJUG.org \n
LAST-MODIFIED:20250718T102625
LOCATION:Dublin City Centre
ORGANIZER:mailto:team@DubJUG.org
SUMMARY:Dec 2019 - Java Champion Otavio Santana
URL;VALUE=URI:https://ti.to/dublin-java-user-group/Dec-2019-Java-Champion-O
 tavio-Santana
URL;VALUE=URI:https://ti.to/dublin-java-user-group/Dec-2019-Java-Champion-O
 tavio-Santana
END:VEVENT
END:VCALENDAR
