BEGIN:VCALENDAR
VERSION:2.0
PRODID:icalendar-ruby
CALSCALE:GREGORIAN
BEGIN:VEVENT
DTSTAMP:20260424T105032Z
UID:UKEKJg
DTSTART;VALUE=DATE:20180719
DTEND;VALUE=DATE:20180720
CLASS:PUBLIC
CREATED:20180609T100209
DESCRIPTION: Due to demand and a 'sold-out' workshop in June\, DubJUG co-le
 ad Barry Evans is giving you the chance to attend his highly interactive h
 ands-on workshop Docker for Java Developers on the evening of July 19th. \
 n\n . \n\n Check out the full workshop abstract below. Doors 18:15 / Promp
 t Start 19:00. \n\n . \n\n REGISTRATION NOTES \n\n The Dublin Java User Gr
 oup meetups are designed to enhance the knowledge of developers and techno
 logy professionals. \n\n Due to the overwhelming demand to attend our even
 ts they are always full so make sure you're subscribed to the wait-list to
  get the release notification of this and future Dublin Java User Group ev
 ents. \n\n Better still\, email Team@DubJUG..org and we'll tell you how to
  become a coveted Platinum Member of the Ireland's longest running\, most 
 respected and most active Java User Group. \n\n MORE DUBLIN JAVA USER GROU
 P EVENTS \n\n Java developers who are interested in this meetup are also a
 ttending other Dublin Java User Group meetups - check them at DubJUG.org \
 n
LAST-MODIFIED:20250718T110034
LOCATION:TechMeetup.space\, (next to Palace Bar)\,  Fleet St\, Temple Bar\,
  Dublin 2
ORGANIZER:mailto:team@dubjug.org
SUMMARY:Docker Workshop with Barry Evans
URL;VALUE=URI:https://ti.to/dublin-java-user-group/2nd-docker-workshop-Barr
 y-Evans
URL;VALUE=URI:https://ti.to/dublin-java-user-group/2nd-docker-workshop-Barr
 y-Evans
END:VEVENT
END:VCALENDAR
