BEGIN:VCALENDAR
VERSION:2.0
PRODID:icalendar-ruby
CALSCALE:GREGORIAN
BEGIN:VEVENT
DTSTAMP:20260424T105513Z
UID:Er5sgQ
DTSTART:20260127T180000
DTEND:20260127T210000
CLASS:PUBLIC
CREATED:20251220T192109
DESCRIPTION: We're back to get 2026 ignited not with a flame\, but an explo
 sion. January sees not one\, not two\, but three Java Champions visiting D
 ublin as we again join forces with the JChampions conference to bring you 
 the best! \n\n The third and final visitor coming to present his JChampion
 s talk\, Optimizing Santa's travels in Java with Timefold\, live in-person
  on the evening of January 27th is BeJUG host Tom Cools. \n\n Tom also pre
 sents a special bonus talk for our attendees "Braving the Change: Recalibr
 ating to new realities\," which he recently presented at Devoxx in Belgium
 . \n
LAST-MODIFIED:20260208T153839
LOCATION:Dublin City Centre
ORGANIZER:mailto:team@DubJUG.org
SUMMARY:262 - How we optimized Santa's travels in Java with Timefold
URL;VALUE=URI:https://ti.to/dublin-java-user-group/2603-jchampions-tom-cool
 s
URL;VALUE=URI:https://ti.to/dublin-java-user-group/2603-jchampions-tom-cool
 s
END:VEVENT
END:VCALENDAR
