BEGIN:VCALENDAR
VERSION:2.0
PRODID:icalendar-ruby
CALSCALE:GREGORIAN
BEGIN:VEVENT
DTSTAMP:20260424T111310Z
UID:OIRuPQ
DTSTART;VALUE=DATE:20250617
DTEND;VALUE=DATE:20250618
CLASS:PUBLIC
CREATED:20250508T144751
DESCRIPTION: We had an amazing event in Squarespace's Dublin HQ with insigh
 tful talks from their team lead AJ Rogers and Azul Systems - request video
  ⤵️ \n
LAST-MODIFIED:20250910T110643
LOCATION:Dublin City Centre
ORGANIZER:mailto:team@DubJUG.org
SUMMARY:DubJUG 258 - Squarespace HQ with Azul's Simon Ritter
URL;VALUE=URI:https://ti.to/dublin-java-user-group/258-squarespace-azul-sim
 on-ritter
URL;VALUE=URI:https://ti.to/dublin-java-user-group/258-squarespace-azul-sim
 on-ritter
END:VEVENT
END:VCALENDAR
