BEGIN:VCALENDAR
VERSION:2.0
PRODID:icalendar-ruby
CALSCALE:GREGORIAN
BEGIN:VEVENT
DTSTAMP:20260424T104740Z
UID:IyiEVw
DTSTART:20250925T180000
DTEND:20250925T210000
CLASS:PUBLIC
CREATED:20250707T182415
DESCRIPTION: Join Rogerio Robetti\, to learn how Open J proxy can make a re
 al difference in resource management\, stability\, and scalability of your
  Java apps\, AND Mike Redlich who will run you through Jakarta 11 and 12. 
 \n
LAST-MODIFIED:20251029T111819
LOCATION:Dublin City Centre
ORGANIZER:mailto:team@DubJUG.org
SUMMARY:DubJUG 2509 - Proxy Power: Boosting Java App Performance with Open 
 J Proxy
URL;VALUE=URI:https://ti.to/dublin-java-user-group/2510-boost-java-performa
 nce-with-open-jdbc
URL;VALUE=URI:https://ti.to/dublin-java-user-group/2510-boost-java-performa
 nce-with-open-jdbc
END:VEVENT
END:VCALENDAR
