BEGIN:VCALENDAR
VERSION:2.0
PRODID:icalendar-ruby
CALSCALE:GREGORIAN
BEGIN:VEVENT
DTSTAMP:20260424T105941Z
UID:WjIGGA
DTSTART:20250124T180000
DTEND:20250124T210000
CLASS:PUBLIC
CREATED:20250106T071743
DESCRIPTION: We joined on the evening of Friday 24th January as Java Champi
 on Rafael Del Nero delivered two great Java talks\, one of which was strea
 med worldwide as part of the JChampions Conference 2025. \n\n ABSTRACTS BE
 LOW ⤵️ \n
LAST-MODIFIED:20250718T101110
LOCATION:Dublin City Centre
ORGANIZER:mailto:team@DubJUG.org
SUMMARY:DubJUG 252 - JChampions Series - In-Person with Rafael Del Nero
URL;VALUE=URI:https://ti.to/dublin-java-user-group/2025-rafael-del-nero
URL;VALUE=URI:https://ti.to/dublin-java-user-group/2025-rafael-del-nero
END:VEVENT
END:VCALENDAR
