BEGIN:VCALENDAR
VERSION:2.0
PRODID:icalendar-ruby
CALSCALE:GREGORIAN
BEGIN:VEVENT
DTSTAMP:20260424T110643Z
UID:BuV5Dg
DTSTART:20250127T180000
DTEND:20250127T210000
CLASS:PUBLIC
CREATED:20241223T143150
DESCRIPTION: We joined on the evening of Monday 27th January as Dutch based
  Brazilian Java Champion\, Elias Nogueira delivered two great Java testing
  talks\, one of which was streamed worldwide as part of the JChampions Con
 ference 2025. \n\n ABSTRACTS BELOW ⤵️ \n
LAST-MODIFIED:20250718T101052
LOCATION:Dublin City Centre
ORGANIZER:mailto:team@DubJUG.org
SUMMARY:DubJUG 253 - JChampions Series - In-Person with Elias Nogueira
URL;VALUE=URI:https://ti.to/dublin-java-user-group/2025-elias-nogueira
URL;VALUE=URI:https://ti.to/dublin-java-user-group/2025-elias-nogueira
END:VEVENT
END:VCALENDAR
