BEGIN:VCALENDAR
VERSION:2.0
PRODID:icalendar-ruby
CALSCALE:GREGORIAN
BEGIN:VEVENT
DTSTAMP:20260424T105941Z
UID:o9ClxQ
DTSTART:20250313T161500
DTEND:20250313T203000
CLASS:PUBLIC
CREATED:20250304T160120
DESCRIPTION: We joined Azul Systems FOOJAY and DubJUG on the evening of Thu
 rsday 13th March for DubJUG's Watch Party of Duke Turns 30\, a celebrating
  30 years of Java \n
LAST-MODIFIED:20250718T090239
LOCATION:Dublin City Centre
ORGANIZER:mailto:team@DubJUG.org
SUMMARY:DubJUG 255 - The Duke Turns 30
URL;VALUE=URI:https://ti.to/dublin-java-user-group/2025-duke-turns-30
URL;VALUE=URI:https://ti.to/dublin-java-user-group/2025-duke-turns-30
END:VEVENT
END:VCALENDAR
