BEGIN:VCALENDAR
VERSION:2.0
PRODID:icalendar-ruby
CALSCALE:GREGORIAN
BEGIN:VEVENT
DTSTAMP:20260424T111227Z
UID:vIToyw
DTSTART;VALUE=DATE:20240827
DTEND;VALUE=DATE:20240828
CLASS:PUBLIC
CREATED:20240607T143308
DESCRIPTION: This month\, we welcomed long-time open source committer Serge
 y Beryozkin to the Dublin Java User Group. Currently working at Red Hat\, 
 Sergey has a deep interest in OpenId Connect and JSON Web Token (JWT) secu
 rity. \n\n ABSTRACTS BELOW ⤵️ \n
LAST-MODIFIED:20250718T090952
LOCATION:Dublin City Centre
ORGANIZER:mailto:team@DubJUG.org
SUMMARY:DubJUG with Red Hat's Sergey Beryozkin
URL;VALUE=URI:https://ti.to/dublin-java-user-group/2024-redhats-sergey-bery
 ozkin
URL;VALUE=URI:https://ti.to/dublin-java-user-group/2024-redhats-sergey-bery
 ozkin
END:VEVENT
END:VCALENDAR
