BEGIN:VCALENDAR
VERSION:2.0
PRODID:icalendar-ruby
CALSCALE:GREGORIAN
BEGIN:VEVENT
DTSTAMP:20260424T110956Z
UID:ks60sg
DTSTART:20240625T180000
DTEND:20240625T210000
CLASS:PUBLIC
CREATED:20240529T190405
DESCRIPTION: It had been several years since we last had the great pleasure
  of welcoming Juarez Barbosa Junior to the Dublin Java User Group. On that
  occasion\, we welcomed him back for a session on blazingly fast GenAI app
  development using Spring AI. \n\n ABSTRACTS BELOW ⤵️ \n
LAST-MODIFIED:20250718T101418
LOCATION:Dublin City Centre
ORGANIZER:mailto:team@DubJUG.org
SUMMARY:DubJUG with Oracle's Juarez Barbosa Junior
URL;VALUE=URI:https://ti.to/dublin-java-user-group/2024-oracles-juarez-barb
 osa-junior
URL;VALUE=URI:https://ti.to/dublin-java-user-group/2024-oracles-juarez-barb
 osa-junior
END:VEVENT
END:VCALENDAR
