BEGIN:VCALENDAR
VERSION:2.0
PRODID:icalendar-ruby
CALSCALE:GREGORIAN
BEGIN:VEVENT
DTSTAMP:20260424T110956Z
UID:4aUwzQ
DTSTART;VALUE=DATE:20240130
DTEND;VALUE=DATE:20240131
CLASS:PUBLIC
CREATED:20240106T174334
DESCRIPTION: On the evening of Tuesday January 30th we welcomed Dublin base
 d Java Champion Rafael Del Nero to the Dublin Java User Group at TechMeetu
 p.space in the city centre. \n\n ABSTRACTS BELOW ⤵️ \n
LAST-MODIFIED:20250718T091137
LOCATION:Dublin City Centre
ORGANIZER:mailto:team@DubJUG.org
SUMMARY:Live JChampions with Guest Speaker - Rafael Del Nero
URL;VALUE=URI:https://ti.to/dublin-java-user-group/2024-jchampionconf-rafae
 l-del-nero
URL;VALUE=URI:https://ti.to/dublin-java-user-group/2024-jchampionconf-rafae
 l-del-nero
END:VEVENT
END:VCALENDAR
