BEGIN:VCALENDAR
VERSION:2.0
PRODID:icalendar-ruby
CALSCALE:GREGORIAN
BEGIN:VEVENT
DTSTAMP:20260424T105217Z
UID:5ABpwQ
DTSTART;VALUE=DATE:20240925
DTEND;VALUE=DATE:20240926
CLASS:PUBLIC
CREATED:20240814T213504
DESCRIPTION: We joined in Integral Ad Sciences new Dublin HQ on the evening
  of Wednesday 25th September as their Senior Staff Engineer\, Samuel Teixe
 ira\, presents Replatforming a High-Throughput Microservice: From Bare Met
 al to Cloud with Spring WebFlux and Kubernetes. \n\n ABSTRACTS BELOW 
 ⤵️ \n
LAST-MODIFIED:20250718T090924
LOCATION:Dublin City Centre
ORGANIZER:mailto:team@DubJUG.org
SUMMARY:DubJUG September - Replatforming a High-Throughput Microservice: Fr
 om Bare Metal to Cloud with Spring WebFlux and Kubernetes
URL;VALUE=URI:https://ti.to/dublin-java-user-group/2024-integral-ad-science
URL;VALUE=URI:https://ti.to/dublin-java-user-group/2024-integral-ad-science
END:VEVENT
END:VCALENDAR
