BEGIN:VCALENDAR
VERSION:2.0
PRODID:icalendar-ruby
CALSCALE:GREGORIAN
BEGIN:VEVENT
DTSTAMP:20260424T105010Z
UID:Tqbk7w
DTSTART;VALUE=DATE:20240307
DTEND;VALUE=DATE:20240308
CLASS:PUBLIC
CREATED:20240205T065017
DESCRIPTION: We welcomed local Brasilian developer Igor De Souza for a nigh
 t of Kafka fun! \n\n ABSTRACTS BELOW ⤵️ \n
LAST-MODIFIED:20250718T091058
LOCATION:Dublin City Centre
ORGANIZER:mailto:team@DubJUG.org
SUMMARY:Apache Kafka Night
URL;VALUE=URI:https://ti.to/dublin-java-user-group/2024-apache-kafka
URL;VALUE=URI:https://ti.to/dublin-java-user-group/2024-apache-kafka
END:VEVENT
END:VCALENDAR
