BEGIN:VCALENDAR
VERSION:2.0
PRODID:icalendar-ruby
CALSCALE:GREGORIAN
BEGIN:VEVENT
DTSTAMP:20260422T064310Z
UID:bXBUNQ
DTSTART;VALUE=DATE:20231031
DTEND;VALUE=DATE:20231101
CLASS:PUBLIC
CREATED:20230728T141822
DESCRIPTION: Java Champion and Azul developer\, Gerrit Grunwald (aka Hansol
 o) joined us on the evening of Tuesday October 31st at TechMeetup.space in
  Dublin city centre. \n
LAST-MODIFIED:20250718T091250
LOCATION:Dublin City Centre
ORGANIZER:mailto:team@DubJUG.org
SUMMARY:DubJUG - Java Champion Gerrit Grunwald
URL;VALUE=URI:https://ti.to/dublin-java-user-group/2023-java-champion-gerri
 t-grunwald
URL;VALUE=URI:https://ti.to/dublin-java-user-group/2023-java-champion-gerri
 t-grunwald
END:VEVENT
END:VCALENDAR
