BEGIN:VCALENDAR
VERSION:2.0
PRODID:icalendar-ruby
CALSCALE:GREGORIAN
BEGIN:VEVENT
DTSTAMP:20260424T105702Z
UID:crpTPw
DTSTART;VALUE=DATE:20230921
DTEND;VALUE=DATE:20230922
CLASS:PUBLIC
CREATED:20230719T152111
DESCRIPTION: We hope you joined us the evening of Thursday September 21st\,
  as the Dublin Java User Group welcomed Kris Foster LIVE in-person at Tech
 Meetup.space to give you solid advice on how to get the most out of your J
 ava applications. \n\n ABSTRACTS BELOW ⤵️ \n
LAST-MODIFIED:20250718T091358
LOCATION:Dublin City Centre
ORGANIZER:mailto:team@DubJUG.org
SUMMARY:DubJUG - Oracle's Kris Foster
URL;VALUE=URI:https://ti.to/dublin-java-user-group/2023-graalvm-kris-foster
URL;VALUE=URI:https://ti.to/dublin-java-user-group/2023-graalvm-kris-foster
END:VEVENT
END:VCALENDAR
