BEGIN:VCALENDAR
VERSION:2.0
PRODID:icalendar-ruby
CALSCALE:GREGORIAN
BEGIN:VEVENT
DTSTAMP:20260424T110957Z
UID:rtaWSA
DTSTART;VALUE=DATE:20190716
DTEND;VALUE=DATE:20190717
CLASS:PUBLIC
CREATED:20190602T081430
DESCRIPTION: Lead developer advocate at Oracle Labs and Java Champion\, Ole
 g Selajev\, took a hop from his native Estonia for a tour of Ireland in Ju
 ly. Oleg explained GraalVM. \n\n This Oracle DubJUG event took place at 19
 :00 on Tuesday 16th July in Dublin city centre. \n\n REGISTRATION NOTES \n
 \n The Dublin Java User Group events are designed to enrich the knowledge 
 and careers of developers and technology professionals. By booking your se
 at\, you agree to the booking conditions \n\n PLATINUM MEMBERSHIP \n\n Due
  to the overwhelming demand to attend\, our events are always full. Priori
 ty booking is offered to our Platinum Members. Email Team@DubJUG.org if yo
 u'd like to know more about becoming a coveted Platinum Member of the Irel
 and's longest running\, most respected and most active Java User Group. \n
 \n MORE DUBLIN JAVA USER GROUP EVENTS \n\n Interested in meeting Java Rock
 stars? Check out our other Dublin Java User Group events - DubJUG.org \n
LAST-MODIFIED:20250718T103603
LOCATION:Dublin City Centre
ORGANIZER:mailto:team@DubJUG.org
SUMMARY:July 2019 - Oleg Selajev - GraalVM for Java Developers
URL;VALUE=URI:https://ti.to/dublin-java-user-group/2019-Oleg-Selajev-GraalV
 M-for-Java-Developers
URL;VALUE=URI:https://ti.to/dublin-java-user-group/2019-Oleg-Selajev-GraalV
 M-for-Java-Developers
END:VEVENT
END:VCALENDAR
