BEGIN:VCALENDAR
VERSION:2.0
PRODID:icalendar-ruby
CALSCALE:GREGORIAN
BEGIN:VEVENT
DTSTAMP:20260424T104913Z
UID:TZ6vCA
DTSTART;VALUE=DATE:20190910
DTEND;VALUE=DATE:20190911
CLASS:PUBLIC
CREATED:20190329T093932
DESCRIPTION: Java Champion and author of The JHipster Mini-Book and Spring 
 Live\, Matt Raible\, returned to share his expert knowledge — delivering
  an amazing array of information that enabled new beginnings in many Java 
 careers. \n\n The Oracle DubJUG event took place at 19:00 on Tuesday 10th 
 September. \n\n REGISTRATION NOTES \n\n The Dublin Java User Group events 
 are designed to enrich the knowledge and careers of developers and technol
 ogy professionals. By booking your seat\, you agree to the booking conditi
 ons \n\n PLATINUM MEMBERSHIP \n\n Due to the overwhelming demand to attend
 \, our events are always full. Priority booking is offered to our Platinum
  Members. Email Team@DubJUG.org if you'd like to know more about becoming 
 a coveted Platinum Member of the Ireland's longest running\, most respecte
 d and most active Java User Group. \n\n MORE DUBLIN JAVA USER GROUP EVENTS
  \n\n Interested in meeting Java Rockstars? Check out our other Dublin Jav
 a User Group events - DubJUG.org \n
LAST-MODIFIED:20250718T103249
LOCATION:Dublin City Centre
ORGANIZER:mailto:team@DubJUG.org
SUMMARY:Sept 2019 - Java Champion Matt Raible
URL;VALUE=URI:https://ti.to/dublin-java-user-group/2019-Java-Champion-Matt-
 Raible
URL;VALUE=URI:https://ti.to/dublin-java-user-group/2019-Java-Champion-Matt-
 Raible
END:VEVENT
END:VCALENDAR
