BEGIN:VCALENDAR
VERSION:2.0
PRODID:icalendar-ruby
CALSCALE:GREGORIAN
BEGIN:VEVENT
DTSTAMP:20260424T104939Z
UID:i5u6Fg
DTSTART;VALUE=DATE:20190918
DTEND;VALUE=DATE:20190919
CLASS:PUBLIC
CREATED:20190811T092149
DESCRIPTION: **“Hazelcast’s Riaz Mohammed made his return to the Oracle
  Dublin Java User Group to walk attendees through how to set up an end-to-
 end enterprise-grade platform to operationalize Artificial Intelligence us
 ing the open-source Hazelcast technology. \n\n The Oracle DubJUG event too
 k place at 19:00 on Wednesday 18th September.\n  \n\n Whoaaaa! STOP THE PR
 ESS.... \n\n At this event\, we will be giving away a free Voxxed Days Mic
 roservices conference and workshop taking place in Paris October 21-23. Th
 e ticket is worth 840 euro! \n\n You need to be at the Oracle DubJUG event
  to be in with a chance to get your hands on this fabulous prize - our dev
 eloper-only event takes place at 19:00 on Wednesday 18th September in Dubl
 in city centre. \n\n REGISTRATION NOTES \n\n The Dublin Java User Group ev
 ents are designed to enrich the knowledge and careers of developers and te
 chnology professionals. By booking your seat\, you agree to the booking co
 nditions \n\n PLATINUM MEMBERSHIP \n\n Due to the overwhelming demand to a
 ttend\, our events are always full. Priority booking is offered to our Pla
 tinum Members. Email Team@DubJUG.org if you'd like to know more about beco
 ming a coveted Platinum Member of the Ireland's longest running\, most res
 pected and most active Java User Group. \n\n MORE DUBLIN JAVA USER GROUP E
 VENTS \n\n Interested in meeting Java Rockstars? Check out our other Dubli
 n Java User Group events - DubJUG.org \n
LAST-MODIFIED:20250718T103050
LOCATION:Dublin City Centre
ORGANIZER:mailto:team@DubJUG.org
SUMMARY:Sept 2019 - Hazelcast Riaz Mohammed
URL;VALUE=URI:https://ti.to/dublin-java-user-group/2019-Hazelcast-Riaz-Moha
 mmed
URL;VALUE=URI:https://ti.to/dublin-java-user-group/2019-Hazelcast-Riaz-Moha
 mmed
END:VEVENT
END:VCALENDAR
