BEGIN:VCALENDAR
VERSION:2.0
PRODID:icalendar-ruby
CALSCALE:GREGORIAN
BEGIN:VEVENT
DTSTAMP:20260425T161426Z
UID:7J1lzg
DTSTART;VALUE=DATE:20200925
DTEND;VALUE=DATE:20200926
CLASS:PUBLIC
CREATED:20200825T120540
DESCRIPTION: *10% if you tag a friend then follow on instagram and Youtube 
 Channel here:\nhttps://www.youtube.com/channel/UCGmFvH5bL4sUerU76Nr2f8A\n*
 message me on IG for the code @dragoscomedy \n\n With over 500 reviews fro
 m and over 30 countries for his first show Hungry Hungry Dragon! Dragos is
  now back with a brand new hour - Labrador Dreams! \n\n The success of the
  first show earned Dragos the opening on the Europe Tour for 5 time Grammy
  nominated comedian Jim Gaffigan. \n\n Come check out the show that has be
 en described as: \n\n \n "super fun and very educational” - Daniela\, La
 usanne \n  "Elegant and funny. It's a rare case.” - Albina\, Bonn \n  
 “lovely and definitely relatable to any global citizen out there!” -Be
 ena\, Morocco \n “The show in Munich was brilliant- insightful\, context
 ual and downright hilarious! “ - Alysha\, Munich \n  “cross cultural p
 erspectives handled with care and humour are so so needed in our world”-
  Susanne\, Copenhage \n  “the perfect mix of multicultural comedy\, dark
  humour and crowd work” - Michael\,  Rotterdam \n \n\n 25 SEP\n20:00 @ \
 nŽiŽKOVŠiŠKA\nHusitská 888/11\, 130 00 Praha 3-Žižkov\, Czechia \n\
 n [youtube:CxVEXltbar0] \n
LAST-MODIFIED:20240917T080129
LOCATION:ŽiŽKOVŠiŠKA  Husitská 888/11\, 130 00 Praha 3-Žižkov\, Czec
 hia
ORGANIZER:mailto:hello@wakeup.international
SUMMARY:Live English Standup - Dragos Cristian - Labrador Dreams-Prague-SEP
 2020
URL;VALUE=URI:https://ti.to/dragos-cristian-comedy/live-english-standup-dra
 gos-cristian-LABRADOR-DREAMS
URL;VALUE=URI:https://ti.to/dragos-cristian-comedy/live-english-standup-dra
 gos-cristian-LABRADOR-DREAMS
END:VEVENT
END:VCALENDAR
