BEGIN:VCALENDAR
VERSION:2.0
PRODID:icalendar-ruby
CALSCALE:GREGORIAN
BEGIN:VEVENT
DTSTAMP:20260422T085834Z
UID:sbgIlg
DTSTART;VALUE=DATE:20220712
DTEND;VALUE=DATE:20220713
CLASS:PUBLIC
CREATED:20220118T112224
DESCRIPTION: An introductory session to Social Investment and how it can su
 pport the growth of your social venture. \n
LAST-MODIFIED:20220624T105058
LOCATION:Zoom  11:00 - 12:00 pm
ORGANIZER:mailto:info@dottodottraining.co.uk
SUMMARY:Introduction to Social Investment (11.00 - 12.00)
URL;VALUE=URI:https://ti.to/dottodot/introductiontosocialinvestment
URL;VALUE=URI:https://ti.to/dottodot/introductiontosocialinvestment
END:VEVENT
END:VCALENDAR
