BEGIN:VCALENDAR
VERSION:2.0
PRODID:icalendar-ruby
CALSCALE:GREGORIAN
BEGIN:VEVENT
DTSTAMP:20260424T202048Z
UID:h1W9cQ
DTSTART;VALUE=DATE:20190205
DTEND;VALUE=DATE:20190206
CLASS:PUBLIC
CREATED:20181127T015243
DESCRIPTION: Craft CMS is coming to Melbourne for a single-day event featur
 ing talks from Craft CEO Brandon Kelly and more! Meet fellow members of th
 e Craft CMS Australia community at Craft’s first-ever Asia Pacific event
 . \n
LAST-MODIFIED:20190204T192858
LOCATION:Melbourne Museum Treetops Room
ORGANIZER:mailto:leah@craftcms.com
SUMMARY:Dot One Australia 2019
URL;VALUE=URI:https://ti.to/dotall/dot-one-australia-2019
URL;VALUE=URI:https://ti.to/dotall/dot-one-australia-2019
END:VEVENT
END:VCALENDAR
