BEGIN:VCALENDAR
VERSION:2.0
PRODID:icalendar-ruby
CALSCALE:GREGORIAN
BEGIN:VEVENT
DTSTAMP:20260424T143339Z
UID:ViNSwA
DTSTART;VALUE=DATE:20171201
DTEND;VALUE=DATE:20171202
CLASS:PUBLIC
CREATED:20170617T163101
DESCRIPTION: Bedside Tales - an evening of medical story telling with music
 .  \n\n From the organisers of the dotMD Conference \n\n Doors open 7pm. \
 n\n www.bedside.ie \n
LAST-MODIFIED:20171201T115322
LOCATION:An Taibhdhearc Theatre\, Middle Street\,  Galway
ORGANIZER:mailto:rkavanagh@dotmd.ie
SUMMARY:Bedside Tales From The Heart of Medicine
URL;VALUE=URI:https://ti.to/dotMD/Bedside17
URL;VALUE=URI:https://ti.to/dotMD/Bedside17
END:VEVENT
END:VCALENDAR
