BEGIN:VCALENDAR
VERSION:2.0
PRODID:icalendar-ruby
CALSCALE:GREGORIAN
BEGIN:VEVENT
DTSTAMP:20260422T085653Z
UID:xagFGA
DTSTART:20260925T190000
DTEND:20260927T233000
CLASS:PUBLIC
CREATED:20251028T155519
DESCRIPTION: Féile pobail in ómós do Rónán Mac Aodha Bhuí. Seo an tr
 íú bliain don fhéile. \n
LAST-MODIFIED:20260420T122703
LOCATION:Gaoth Dobhair\, Co. Dhún na nGall
ORGANIZER:mailto:admin@dornsanaer.ie
SUMMARY:Féile Dhorn San Aer 2026
URL;VALUE=URI:https://ti.to/dorn-san-aer/2026
URL;VALUE=URI:https://ti.to/dorn-san-aer/2026
END:VEVENT
BEGIN:VEVENT
DTSTAMP:20260422T085653Z
UID:xagFGA1092965
DTSTART:20260926T120000
DTEND:20260926T180000
CLASS:PUBLIC
CREATED:20251028T155523
DESCRIPTION:Beidh manglam ceoil agus craic ar stáitse Ghéill Slí. Banna
 í le fógairt.
LAST-MODIFIED:20251028T204800
LOCATION:Ionad Cois Locha\, Dún Lúiche\, Dún Lúiche\, Co. Dhún na nGal
 l\, F92 W265
ORGANIZER:mailto:admin@dornsanaer.ie
SUMMARY:[Féile Dhorn San Aer 2026] Ceoilchoirm Stáitse "Géill Slí"
URL;VALUE=URI:https://ti.to/dorn-san-aer/2026
X-ALT-DESC;FMTTYPE=text/html:Beidh manglam ceoil agus craic ar stáitse Gh
 éill Slí. Bannaí le fógairt.
URL;VALUE=URI:https://ti.to/dorn-san-aer/2026
END:VEVENT
BEGIN:VEVENT
DTSTAMP:20260422T085653Z
UID:xagFGA1092969
DTSTART:20260926T140000
DTEND:20260926T160000
CLASS:PUBLIC
CREATED:20251028T155524
DESCRIPTION:Beidh dhá thuras ceoil amach ar an Ghráinne Rose le aoicheolt
 óirí speisialta. Deis annamh é seo éisteacht le ceol beo i gciúnas an
  locha faoi scáth na hEaragla. Déanfar na haíonna a fhógairt amach an
 seo. (Beidh ticéid le cur in áirithe roimh ré don dá thuras báid mar 
 go bhfuil uimhreacha teoranta)
LAST-MODIFIED:20260418T094519
LOCATION:Ionad Cois Locha\, Dún Lúiche\, Dún Lúiche\, Co. Dhún na nGal
 l\, F92 W265
ORGANIZER:mailto:admin@dornsanaer.ie
SUMMARY:[Féile Dhorn San Aer 2026] Ceol ar an Loch (ar an Ghráinne Rose)
URL;VALUE=URI:https://ti.to/dorn-san-aer/2026
X-ALT-DESC;FMTTYPE=text/html:Beidh dhá thuras ceoil amach ar an Ghráinne 
 Rose le aoicheoltóirí speisialta. Deis annamh é seo éisteacht le ceol 
 beo i gciúnas an locha faoi scáth na hEaragla. Déanfar na haíonna a f
 hógairt amach anseo. (Beidh ticéid le cur in áirithe roimh ré don dá 
 thuras báid mar go bhfuil uimhreacha teoranta)
URL;VALUE=URI:https://ti.to/dorn-san-aer/2026
END:VEVENT
BEGIN:VEVENT
DTSTAMP:20260422T085653Z
UID:xagFGA1092963
DTSTART:20260926T200000
DTEND:20260926T010000
CLASS:PUBLIC
CREATED:20251028T155523
DESCRIPTION:Príomhstáitse – Dorn San Aer: Ionad Cois Locha Dé Sath 6-1
 am\nCeolchoirm mhór na deireadh seachtaine le scoith na mbannaí: BANNAÍ
  LE FÓGAIRT
LAST-MODIFIED:20260418T094519
LOCATION:Ionad Cois Locha\, Dún Lúiche\, Dún Lúiche\, Co. Dhún na nGal
 l\, F92 W265
ORGANIZER:mailto:admin@dornsanaer.ie
SUMMARY:[Féile Dhorn San Aer 2026] Ceoilchoirm An Príomh Stáitse - Ionad
  Cois Locha
URL;VALUE=URI:https://ti.to/dorn-san-aer/2026
X-ALT-DESC;FMTTYPE=text/html:Príomhstáitse – Dorn San Aer: Ionad Cois L
 ocha Dé Sath 6-1am\nCeolchoirm mhór na deireadh seachtaine le scoith na 
 mbannaí: BANNAÍ LE FÓGAIRT
URL;VALUE=URI:https://ti.to/dorn-san-aer/2026
END:VEVENT
BEGIN:VEVENT
DTSTAMP:20260422T085653Z
UID:xagFGA1092964
DTSTART:20260927T200000
DTEND:20260927T010000
CLASS:PUBLIC
CREATED:20251028T155523
DESCRIPTION:Oíche chraiceáilte Tigh Hiúdaí Beag. Ceoltóirí le fógair
 t.
LAST-MODIFIED:20260418T094519
LOCATION:Teach Hiúdaí Beag\, An Bun Beag\, Machaire Chlochair\, Co. Dhún
  na nGall\, F92 YF61
ORGANIZER:mailto:admin@dornsanaer.ie
SUMMARY:[Féile Dhorn San Aer 2026] Craiceáilte Tigh Hiúdaí
URL;VALUE=URI:https://ti.to/dorn-san-aer/2026
X-ALT-DESC;FMTTYPE=text/html:Oíche chraiceáilte Tigh Hiúdaí Beag. Ceolt
 óirí le fógairt.
URL;VALUE=URI:https://ti.to/dorn-san-aer/2026
END:VEVENT
END:VCALENDAR
