BEGIN:VCALENDAR
VERSION:2.0
PRODID:icalendar-ruby
CALSCALE:GREGORIAN
BEGIN:VTIMEZONE
TZID:Europe/London
BEGIN:DAYLIGHT
DTSTART:20200329T020000
TZOFFSETFROM:+0000
TZOFFSETTO:+0100
RRULE:FREQ=YEARLY;BYDAY=-1SU;BYMONTH=3
TZNAME:BST
END:DAYLIGHT
BEGIN:STANDARD
DTSTART:20201025T010000
TZOFFSETFROM:+0100
TZOFFSETTO:+0000
RRULE:FREQ=YEARLY;BYDAY=-1SU;BYMONTH=10
TZNAME:GMT
END:STANDARD
END:VTIMEZONE
BEGIN:VEVENT
DTSTAMP:20260419T223039Z
UID:XxQYYQ
DTSTART;VALUE=DATE:20200908
DTEND;VALUE=DATE:20200911
CLASS:PUBLIC
CREATED:20200722T113449
DESCRIPTION: Technology leaders play a key role in supporting the long-term
  strategic goals of modern businesses. Modernising the IT portfolio\, alig
 ning software with business needs\, and building engineering organisations
  are some of high-stakes responsibilities you need to get right. \n\n This
  course will give you the tools and principles to design your company’s 
 technology strategy. \n
LAST-MODIFIED:20200829T102448
LOCATION:Online
ORGANIZER:mailto:contact@domaincentric.net
SUMMARY:Designing Technology Strategy with DDD & Wardley Mapping
URL;VALUE=URI:https://ti.to/domaincentric/designing-technology-strategy-sep
 tember-2020
URL;VALUE=URI:https://ti.to/domaincentric/designing-technology-strategy-sep
 tember-2020
END:VEVENT
END:VCALENDAR
