BEGIN:VCALENDAR
VERSION:2.0
PRODID:icalendar-ruby
CALSCALE:GREGORIAN
BEGIN:VTIMEZONE
TZID:Europe/Zurich
BEGIN:DAYLIGHT
DTSTART:20250330T030000
TZOFFSETFROM:+0100
TZOFFSETTO:+0200
RRULE:FREQ=YEARLY;BYDAY=-1SU;BYMONTH=3
TZNAME:CEST
END:DAYLIGHT
BEGIN:STANDARD
DTSTART:20241027T020000
TZOFFSETFROM:+0200
TZOFFSETTO:+0100
RRULE:FREQ=YEARLY;BYDAY=-1SU;BYMONTH=10
TZNAME:CET
END:STANDARD
END:VTIMEZONE
BEGIN:VEVENT
DTSTAMP:20260424T143110Z
UID:RnuITw
DTSTART;TZID=Europe/Zurich:20250312T090000
DTEND;TZID=Europe/Zurich:20250313T173000
CLASS:PUBLIC
CREATED:20240920T174226
DESCRIPTION: DevOpsDays Zurich is a single track\, english language confere
 nce with various formats.\nFurther event information can be found on https
 ://devopsdays.ch \n\n Tickets:\nThis year we offer the "regular" two day t
 icket for the full conference experience (March 12th + 13th)\, but also a 
 discounted day 2 only ticket (only March 13th) in case you can only make i
 t on day 2. \n\n Accessibility and Diversity:\nIn case you need assistance
  either to access the venue or in buying the ticket please reach out to us
 . We might help underrepresented groups in the IT industry with discounted
  tickets. For access to the venue\, please find detailed information on th
 e Zugangsmonitor.ch page. \n\n Sustainability\nAs organizers we want to ke
 ep the environmental footprint of our conference small.\nIf your mobility 
 permits\, we kindly request all participants to arrive by train. The venue
  is a ~10min walk away from the Winterthur train station. \n\n Refund of t
 ickets:\nPlease contact the organizers in case you want a ticket refund.\n
 Refunds can be requested at the latest two weeks before the conference.\n1
 0% administrative fee applies on refunds.\nTickets can be reassigned until
  3 days before the conference. \n
LAST-MODIFIED:20250312T150539
LOCATION:Winterthur\, Zurich\, Switzerland
ORGANIZER:mailto:organizer@devopsdays.ch
SUMMARY:DevOpsDays Zurich-Winterthur 2025
URL;VALUE=URI:https://ti.to/dod/dodzh2025
URL;VALUE=URI:https://ti.to/dod/dodzh2025
END:VEVENT
BEGIN:VEVENT
DTSTAMP:20260424T143110Z
UID:RnuITw1075224
DTSTART;TZID=Europe/Zurich:20250312T090000
DTEND;TZID=Europe/Zurich:20250312T173000
CLASS:PUBLIC
CREATED:20240920T174232
DESCRIPTION:Day 1 of the DevOpsDays Zurich 2025 conference on 12.03.2025 in
  the [Alte Kaserne\, Winterthur\, Switzerland](https://maps.app.goo.gl/irE
 vYBGKuYg9S4sE9)\nTalks\, Ignites\, Workshops\, OpenSpaces...and: nice peop
 le
LAST-MODIFIED:20250311T102930
LOCATION:Alte Kaserne\, Technikumstrasse 8\, 8403 Winterthur\, Switzerland
ORGANIZER:mailto:organizer@devopsdays.ch
SUMMARY:[DevOpsDays Zurich-Winterthur 2025] Conference Day 1
URL;VALUE=URI:https://ti.to/dod/dodzh2025
X-ALT-DESC;FMTTYPE=text/html:Day 1 of the DevOpsDays Zurich 2025 conference
  on 12.03.2025 in the [Alte Kaserne\, Winterthur\, Switzerland](https://ma
 ps.app.goo.gl/irEvYBGKuYg9S4sE9)\nTalks\, Ignites\, Workshops\, OpenSpaces
 ...and: nice people
URL;VALUE=URI:https://ti.to/dod/dodzh2025
END:VEVENT
BEGIN:VEVENT
DTSTAMP:20260424T143110Z
UID:RnuITw1075226
DTSTART;TZID=Europe/Zurich:20250312T180000
DTEND;TZID=Europe/Zurich:20250312T230000
CLASS:PUBLIC
CREATED:20240920T174232
DESCRIPTION:Entrance for the Evening Event of the DevOpsDays Zurich 2025 co
 nference on 12.03.2025 in the [Caribbean Pearl\, Winterthur\, Switzerland]
 (https://maps.app.goo.gl/Pw7Ve5UNTv1VRWa49)\nFood\, Drinks\, Networking\, 
 Fun...and: nice people
LAST-MODIFIED:20250311T102930
LOCATION:Pearl\, Zürcherstr. 3\n8400 Winterthur\nSwitzerland
ORGANIZER:mailto:organizer@devopsdays.ch
SUMMARY:[DevOpsDays Zurich-Winterthur 2025] Evening Event
URL;VALUE=URI:https://ti.to/dod/dodzh2025
X-ALT-DESC;FMTTYPE=text/html:Entrance for the Evening Event of the DevOpsDa
 ys Zurich 2025 conference on 12.03.2025 in the [Caribbean Pearl\, Winterth
 ur\, Switzerland](https://maps.app.goo.gl/Pw7Ve5UNTv1VRWa49)\nFood\, Drink
 s\, Networking\, Fun...and: nice people
URL;VALUE=URI:https://ti.to/dod/dodzh2025
END:VEVENT
BEGIN:VEVENT
DTSTAMP:20260424T143110Z
UID:RnuITw1075225
DTSTART;TZID=Europe/Zurich:20250313T090000
DTEND;TZID=Europe/Zurich:20250313T173000
CLASS:PUBLIC
CREATED:20240920T174232
DESCRIPTION:Day 2 of the DevOpsDays Zurich 2025 conference on 13.03.2025 in
  the [Alte Kaserne\, Winterthur\, Switzerland](https://maps.app.goo.gl/irE
 vYBGKuYg9S4sE9)\nTalks\, Ignites\, Workshops\, OpenSpaces...and: nice peop
 le
LAST-MODIFIED:20250311T102930
LOCATION:Alte Kaserne\, Technikumstrasse 8\, 8403 Winterthur\, Switzerland
ORGANIZER:mailto:organizer@devopsdays.ch
SUMMARY:[DevOpsDays Zurich-Winterthur 2025] Conference Day 2
URL;VALUE=URI:https://ti.to/dod/dodzh2025
X-ALT-DESC;FMTTYPE=text/html:Day 2 of the DevOpsDays Zurich 2025 conference
  on 13.03.2025 in the [Alte Kaserne\, Winterthur\, Switzerland](https://ma
 ps.app.goo.gl/irEvYBGKuYg9S4sE9)\nTalks\, Ignites\, Workshops\, OpenSpaces
 ...and: nice people
URL;VALUE=URI:https://ti.to/dod/dodzh2025
END:VEVENT
END:VCALENDAR
