BEGIN:VCALENDAR
VERSION:2.0
PRODID:icalendar-ruby
CALSCALE:GREGORIAN
BEGIN:VTIMEZONE
TZID:America/New_York
BEGIN:DAYLIGHT
DTSTART:20240310T030000
TZOFFSETFROM:-0500
TZOFFSETTO:-0400
RRULE:FREQ=YEARLY;BYDAY=2SU;BYMONTH=3
TZNAME:EDT
END:DAYLIGHT
BEGIN:STANDARD
DTSTART:20231105T010000
TZOFFSETFROM:-0400
TZOFFSETTO:-0500
RRULE:FREQ=YEARLY;BYDAY=1SU;BYMONTH=11
TZNAME:EST
END:STANDARD
END:VTIMEZONE
BEGIN:VEVENT
DTSTAMP:20260423T173941Z
UID:NIdHaA
DTSTART;VALUE=DATE:20231207
DTEND;VALUE=DATE:20231208
CLASS:PUBLIC
CREATED:20231006T105331
DESCRIPTION: Code reviews bring many benefits\, such as increased collabora
 tion and knowledge sharing\, a better and more maintainable codebase\, and
  a decrease in defects. \n\n Yet\, most developers experience several draw
 backs when practicing code reviews: \n\n \n a decrease in productivity \n 
 long waiting times \n interruptions \n low-quality feedback \n interperson
 al conflicts \n harsh or toxic comments\, etc. \n \n\n In this interactive
  and hands-on workshop\, you learn how to overcome those pain points and g
 et to fast yet effective code reviews. \n\n The workshop shows you the bes
 t practices and latest research that help to speed up code review turnarou
 nd times while increasing feedback quality. \n\n To improve your code revi
 ew experience even further\, book also my workshop focusing on fast code r
 eview turnaround times. \n\n Companies that have booked the workshop for t
 heir engineers include Spotify\, Wix.com\, BBC\, Royal Bank of Canada\, Na
 tional Instrument\, BBC and many more. \n\n Topics \n\n \n How does code r
 eview speed impact review quality? \n How can you increase feedback qualit
 y? \n Whether to focus on finding defects or readability \n How to overcom
 e bikeshedding and subjective code review comments? \n Latest code review 
 research and best practices \n How do Google\, Microsoft\, Facebook review
  code? \n Respectful\, constructive code review feedback \n Positively res
 olving conflict using Non-Violent Communication \n \n\n What participants 
 say about the workshop \n\n \n "Perfect mix of theory\, background\, and p
 ractical. This is hard to get right!" (Dave Cottlehuber\, Software archite
 ct at SkunkWerks) \n\n "Thank you for leading the workshop earlier in the 
 week. I found it to be informative and engaging. It encouraged discussion 
 in a relaxed environment\, which was valuable to me since a lot of the col
 leagues attending were in orgs that have different practices." (Ciro Nishi
 guchi\, Chief Engineer at National Instruments)\n"I really recommend this 
 code review workshop. It expanded my understanding of the code review proc
 ess. Specifically\, I understood much better the difference in perspective
 s between coder and reviewer." (Stas Wishnevetsky\, Backend Team Lead Wix.
 com) \n\n "Michaela is a great communicator and expert on the topic! I enj
 oyed the workshop in general\, especially provided examples of good and po
 or code review feedback. If you are interested or want to know more about 
 code reviews best practices I’d definitely recommend her!" (Vasily Belol
 apotkov\, Full-stack developer at Automattic) \n\n "Code-reviews and their
  expected results are very subjective. Putting them into a valuable and di
 gnified context for all participants can be difficult. This workshop offer
 s actionable ideas and principles that can help improve them for your team
  and yourself." (Jakob Oberhummer\, Co-Founder at Etonomy) \n \n\n About D
 r. Michaela Greiler \n\n With a Ph.D. from the Delft University of Technol
 ogy in Software Engineering and six years of experience improving software
  development processes at Microsoft\, Dr. Michaela Greiler possesses both 
 thorough theoretical knowledge and extensive industry experience. \n\n Ove
 r the last 15 years\, she conducted multiple large-scale studies on code r
 eviews\, authored several articles in high-ranked scientific publications\
 , and led product teams to a more effective and efficient code review proc
 ess. Her passion is to enable engineers to experience frictionless process
 es and overcome bottlenecks. \n\n You can find out more about her work at 
 michaelagreiler.com \n\n Date and Time \n\n December 7th\, 2023\, from 10:
 00 AM - 12:00 AM Eastern Time (aka 4 PM - 6:00 PM CEST). \n\n Get your pre
 -registration ticket\, which indicates that you are attending the workshop
  on those dates. I'll send you booking information with a 20% discounted r
 ate soon after. \n\n If those dates/times do not work\, write me an email 
 with your preferred dates at office@michaelagreiler.com. When more people 
 can join on those dates\, I will do another workshop. \n\n Price \n\n The 
 price of the workshop is 299 EUR. During pre-registration\, you can save 2
 0% on the ticket price. \n
LAST-MODIFIED:20231108T060520
LOCATION:Remote/Zoom meeting
ORGANIZER:mailto:team@michaelagreiler.com
SUMMARY:Effective Code Reviews: 7 December 23
URL;VALUE=URI:https://ti.to/doctor-mckayla/effective-code-review-dec-23
URL;VALUE=URI:https://ti.to/doctor-mckayla/effective-code-review-dec-23
END:VEVENT
END:VCALENDAR
