BEGIN:VCALENDAR
VERSION:2.0
PRODID:icalendar-ruby
CALSCALE:GREGORIAN
BEGIN:VTIMEZONE
TZID:Africa/Algiers
BEGIN:STANDARD
DTSTART:19810501T010000
TZOFFSETFROM:+0000
TZOFFSETTO:+0100
TZNAME:CET
END:STANDARD
END:VTIMEZONE
BEGIN:VEVENT
DTSTAMP:20260425T155834Z
UID:eH5dLA
DTSTART;VALUE=DATE:20211028
DTEND;VALUE=DATE:20211029
CLASS:PUBLIC
CREATED:20210930T094809
DESCRIPTION: Join DIGILOGIC 2-hour workshop on 28 October 2021\, 11:25 – 
 13:25 (GMT+1)\, hosted at the Afrilabs Annual Gathering live-streamed from
  Abuja\, Nigeria. \n\n Attend the LIVE online stream of the event \n\n The
  event is organized by DIGILOGIC project\, funded by the EU’s H2020 Prog
 ramme under the Grant Agreement number 101016583 \n
LAST-MODIFIED:20211028T104459
LOCATION:Online
ORGANIZER:mailto:info@digilogic.africa
SUMMARY:DIGILOGIC Workshop at the AfriLabs Gathering 2021
URL;VALUE=URI:https://ti.to/digilogic/digilogic-workshop-at-the-afrilabs-ga
 thering-2021
URL;VALUE=URI:https://ti.to/digilogic/digilogic-workshop-at-the-afrilabs-ga
 thering-2021
END:VEVENT
END:VCALENDAR
