BEGIN:VCALENDAR
VERSION:2.0
PRODID:icalendar-ruby
CALSCALE:GREGORIAN
BEGIN:VEVENT
DTSTAMP:20260425T014029Z
UID:oxDSOQ
DTSTART;VALUE=DATE:20220518
DTEND;VALUE=DATE:20220519
CLASS:PUBLIC
CREATED:20211206T185153
LAST-MODIFIED:20250612T182152
LOCATION:Virtual
ORGANIZER:mailto:erica@digiday.com
SUMMARY:Modern Retail Virtual Forum May 2022
URL;VALUE=URI:https://ti.to/digiday/modern-retail-virtual-forum-may-2022
URL;VALUE=URI:https://ti.to/digiday/modern-retail-virtual-forum-may-2022
END:VEVENT
END:VCALENDAR
