BEGIN:VCALENDAR
VERSION:2.0
PRODID:icalendar-ruby
CALSCALE:GREGORIAN
BEGIN:VEVENT
DTSTAMP:20260421T065616Z
UID:JxOgmA
DTSTART;VALUE=DATE:20220606
DTEND;VALUE=DATE:20220609
CLASS:PUBLIC
CREATED:20211221T163936
DESCRIPTION: At Glossy’s Fashion &amp\; Luxury Summit\, leaders from the 
 industry’s most influential brands will share their current strategies f
 or marketing\, merchandising and beyond\, as they move past simply finding
  their footing. That includes how they’re taking advantage of new opport
 unities\, prioritizing innovation\, getting to know their customer and saf
 eguarding for the future. In the new fashion world\, the old rules don’t
  apply. \n
LAST-MODIFIED:20250612T182152
LOCATION:Naples\, FL
ORGANIZER:mailto:megan@digiday.com
SUMMARY:Glossy Future of Fashion & Luxury Summit June 2022
URL;VALUE=URI:https://ti.to/digiday/glossy-fashion-luxury-summit-june-2022
URL;VALUE=URI:https://ti.to/digiday/glossy-fashion-luxury-summit-june-2022
END:VEVENT
END:VCALENDAR
