BEGIN:VCALENDAR
VERSION:2.0
PRODID:icalendar-ruby
CALSCALE:GREGORIAN
BEGIN:VTIMEZONE
TZID:America/New_York
BEGIN:DAYLIGHT
DTSTART:20260308T030000
TZOFFSETFROM:-0500
TZOFFSETTO:-0400
RRULE:FREQ=YEARLY;BYDAY=2SU;BYMONTH=3
TZNAME:EDT
END:DAYLIGHT
BEGIN:STANDARD
DTSTART:20261101T010000
TZOFFSETFROM:-0400
TZOFFSETTO:-0500
RRULE:FREQ=YEARLY;BYDAY=1SU;BYMONTH=11
TZNAME:EST
END:STANDARD
END:VTIMEZONE
BEGIN:VEVENT
DTSTAMP:20260424T163322Z
UID:B6pAuQ
DTSTART;VALUE=DATE:20260323
DTEND;VALUE=DATE:20260326
CLASS:PUBLIC
CREATED:20250625T142307
LAST-MODIFIED:20260312T125356
LOCATION:Vail\, CO
ORGANIZER:mailto:help@digiday.com
SUMMARY:Digiday Publishing Summit March 2026
URL;VALUE=URI:https://ti.to/digiday/digiday-publishing-summit-march-2026
URL;VALUE=URI:https://ti.to/digiday/digiday-publishing-summit-march-2026
END:VEVENT
END:VCALENDAR
