BEGIN:VCALENDAR
VERSION:2.0
PRODID:icalendar-ruby
CALSCALE:GREGORIAN
BEGIN:VEVENT
DTSTAMP:20260421T190115Z
UID:RwxDWQ
DTSTART;VALUE=DATE:20171205
DTEND;VALUE=DATE:20171206
CLASS:PUBLIC
CREATED:20171109T210445
DESCRIPTION: We're hosting a live edition of the Digiday Podcast at our nex
 t Digiday+ member event. Digiday editor-in-chief Brian Morrissey will be j
 oined by Vox Media CMO Lindsay Nelson for a candid discussion about the pi
 vot to video\, female leadership\, building modern media brands that are s
 ustainable\, and whether platforms are friends or foes. \n\n Digiday+ memb
 ers are invited to take part in this special evening at Vox Media's NYC he
 adquarters. \nMembers should arrive at Vox Media at 5:30 p.m. \nEnjoy the 
 live podcast recording from 6 - 6:30 p.m. \nFollowing the podcast\, light 
 refreshments and cocktails will be served.      \n\n Registration is limit
 ed to the first 40 members. \n
LAST-MODIFIED:20250612T182152
LOCATION:New York\, NY
ORGANIZER:mailto:mike@digiday.com
SUMMARY:Digiday+ Member Event: Live Podcast With Vox Media
URL;VALUE=URI:https://ti.to/digiday/digiday-plus-member-event-december
URL;VALUE=URI:https://ti.to/digiday/digiday-plus-member-event-december
END:VEVENT
END:VCALENDAR
