BEGIN:VCALENDAR
VERSION:2.0
PRODID:icalendar-ruby
CALSCALE:GREGORIAN
BEGIN:VEVENT
DTSTAMP:20260419T132405Z
UID:CTSA9w
DTSTART;VALUE=DATE:20171107
DTEND;VALUE=DATE:20171123
CLASS:PUBLIC
CREATED:20170807T165700
LAST-MODIFIED:20250612T182152
LOCATION:Edison Ballroom\, New York\, NY
ORGANIZER:mailto:erica@digiday.com
SUMMARY:Digiday Awards Gala November 2017
URL;VALUE=URI:https://ti.to/digiday/2017-digiday-awards-gala
URL;VALUE=URI:https://ti.to/digiday/2017-digiday-awards-gala
END:VEVENT
END:VCALENDAR
