BEGIN:VCALENDAR
VERSION:2.0
PRODID:icalendar-ruby
CALSCALE:GREGORIAN
BEGIN:VEVENT
DTSTAMP:20260420T084845Z
UID:o6H5Rw
DTSTART;VALUE=DATE:20201114
DTEND;VALUE=DATE:20201115
CLASS:PUBLIC
CREATED:20200817T071349
DESCRIPTION: DevRel/Asia 2020 is online/virtual conference that is target o
 n Asia pacific. We share great experiences about developer relations\, dev
 eloper experiences\, developer marketing and developer communities. \n
LAST-MODIFIED:20201114T160715
LOCATION:Online
ORGANIZER:mailto:atsushi@moongift.jp
SUMMARY:DevRel/Asia 2020
URL;VALUE=URI:https://ti.to/devrel-asia/devrel-asia-2020
URL;VALUE=URI:https://ti.to/devrel-asia/devrel-asia-2020
END:VEVENT
END:VCALENDAR
