BEGIN:VCALENDAR
VERSION:2.0
PRODID:icalendar-ruby
CALSCALE:GREGORIAN
BEGIN:VTIMEZONE
TZID:America/New_York
BEGIN:DAYLIGHT
DTSTART:20230312T030000
TZOFFSETFROM:-0500
TZOFFSETTO:-0400
RRULE:FREQ=YEARLY;BYDAY=2SU;BYMONTH=3
TZNAME:EDT
END:DAYLIGHT
BEGIN:STANDARD
DTSTART:20231105T010000
TZOFFSETFROM:-0400
TZOFFSETTO:-0500
RRULE:FREQ=YEARLY;BYDAY=1SU;BYMONTH=11
TZNAME:EST
END:STANDARD
END:VTIMEZONE
BEGIN:VEVENT
DTSTAMP:20260421T120116Z
UID:dZz8Ug
DTSTART;VALUE=DATE:20231016
DTEND;VALUE=DATE:20231018
CLASS:PUBLIC
CREATED:20230707T133605
DESCRIPTION: Welcome to DevOpsDays Boston 2023: \n\n DevOpsDays is a worldw
 ide series of technical conferences covering topics of software developmen
 t\, IT infrastructure operations\, and the intersection between them. \n\n
  2023 PRESENTATIONS: \n\n \n Pete Cheslock - Fifteen Years of Excess Has L
 ead to the DevOps Hangover \n Sharon Goldberg - Securing your CICD Pipelin
 e \n Talia Nassi - Cloud Computing 101: From basics to building \n Chris G
 allivan - Make Your Value Stream Network Visible \n Dotan Horovits - Obser
 vability? It's a Data Analytics Problem\, You Fool! \n Alexandre Pauwels -
  DevSecOps Ain't That Hard\, a Framework \n Colleen DelVecchio - Banishing
  Burnout: It's Time to Thrive at Your Workplace! \n Jeff Brainerd - Platfo
 rm Health: A team model of platform evolution for startups \n Matt Surabia
 n - Teaching and Learning When Words No Good Sense Make \n Jon Bass - Leas
 t Privilege In The Age of Thinking Machines \n Jose Andrade - Automation a
 nd Observability: a starters guide for sys admins in the world of cloud \n
  Neil Davies - Data Pipelines for Operational Metrics \n \n\n ALSO: \n\n \
 n Two afternoons of Open Spaces \n Hoodies\, give-aways\, and sponsor swag
  \n Catered (individually boxed) lunches \n Community connecting and netwo
 rking \n Multiple Day-1 Evening Events \n Live interviews with The Kuberne
 tes Bytes Podcast \n \n\n For more information\, the complete program is h
 ere. \n\n CODE OF CONDUCT \n\n Please make sure that you familiarize yours
 elf with our Code of Conduct for this event. \n\n HEALTH AND SAFETY REQUIR
 EMENTS \n\n For public safety reasons this year\, to access our event in-p
 erson at the Boston Center for the Arts\, you will need either A) proof of
  vaccination and your valid ID to confirm this proof of vaccination\, or B
 ) recent negative COVID test. Masks will be provided for individuals who p
 refer to wear them inside the venue\, but are not required this year. \n\n
  QUESTIONS? \n\n Email us at boston@devopsdays.org. \n
LAST-MODIFIED:20250721T194828
LOCATION:Boston MA USA
ORGANIZER:mailto:boston@devopsdays.org
SUMMARY:DevOpsDays Boston 2023
URL;VALUE=URI:https://ti.to/devopsdaysbos/2023
URL;VALUE=URI:https://ti.to/devopsdaysbos/2023
END:VEVENT
END:VCALENDAR
