BEGIN:VCALENDAR
VERSION:2.0
PRODID:icalendar-ruby
CALSCALE:GREGORIAN
BEGIN:VTIMEZONE
TZID:Europe/Stockholm
BEGIN:DAYLIGHT
DTSTART:20200329T030000
TZOFFSETFROM:+0100
TZOFFSETTO:+0200
RRULE:FREQ=YEARLY;BYDAY=-1SU;BYMONTH=3
TZNAME:CEST
END:DAYLIGHT
BEGIN:STANDARD
DTSTART:20201025T020000
TZOFFSETFROM:+0200
TZOFFSETTO:+0100
RRULE:FREQ=YEARLY;BYDAY=-1SU;BYMONTH=10
TZNAME:CET
END:STANDARD
END:VTIMEZONE
BEGIN:VEVENT
DTSTAMP:20260421T170641Z
UID:qaEJVQ
DTSTART;VALUE=DATE:20201012
DTEND;VALUE=DATE:20201013
CLASS:PUBLIC
CREATED:20200309T130809
DESCRIPTION: DevOpsDays is a worldwide series of technical conferences cove
 ring topics of software development\, IT infrastructure operations\, and t
 he intersection between them. The first Stockholm edition was organized in
  2017. Following the success of previous conferences\, we are proud to inv
 ite you to this year's DevOpsDays in Stockholm.\nThis year we're doing a v
 irtual event and hope to be able to do a full event again in 2021. \n
LAST-MODIFIED:20201013T074900
LOCATION:Stockholm\, Sweden
ORGANIZER:mailto:stockholm@devopsdays.org
SUMMARY:DevOpsDays Stockholm 2020
URL;VALUE=URI:https://ti.to/devopsdays-stockholm/2020
URL;VALUE=URI:https://ti.to/devopsdays-stockholm/2020
END:VEVENT
END:VCALENDAR
