BEGIN:VCALENDAR
VERSION:2.0
PRODID:icalendar-ruby
CALSCALE:GREGORIAN
BEGIN:VEVENT
DTSTAMP:20260422T120052Z
UID:jrYNVg
DTSTART;VALUE=DATE:20240923
DTEND;VALUE=DATE:20240925
CLASS:PUBLIC
CREATED:20240227T183116
LAST-MODIFIED:20240923T081847
LOCATION:Porto\, Portugal
ORGANIZER:mailto:devopsdaysportugal@gmail.com
SUMMARY:DevOpsDays Portugal 2024
URL;VALUE=URI:https://ti.to/devopsdays-portugal/devopsdays-portugal-2024
URL;VALUE=URI:https://ti.to/devopsdays-portugal/devopsdays-portugal-2024
END:VEVENT
END:VCALENDAR
