BEGIN:VCALENDAR
VERSION:2.0
PRODID:icalendar-ruby
CALSCALE:GREGORIAN
BEGIN:VTIMEZONE
TZID:America/New_York
BEGIN:DAYLIGHT
DTSTART:20210314T030000
TZOFFSETFROM:-0500
TZOFFSETTO:-0400
RRULE:FREQ=YEARLY;BYDAY=2SU;BYMONTH=3
TZNAME:EDT
END:DAYLIGHT
BEGIN:STANDARD
DTSTART:20211107T010000
TZOFFSETFROM:-0400
TZOFFSETTO:-0500
RRULE:FREQ=YEARLY;BYDAY=1SU;BYMONTH=11
TZNAME:EST
END:STANDARD
END:VTIMEZONE
BEGIN:VEVENT
DTSTAMP:20260423T144052Z
UID:YQA3pQ
DTSTART;VALUE=DATE:20211013
DTEND;VALUE=DATE:20211015
CLASS:PUBLIC
CREATED:20210511T192555
DESCRIPTION: DevOps Days Buffalo is back for our third year! In year one we
  were in a beautiful castle\, and then\, in the pandemic\, we shifted to o
 nline allowing us to continue bringing speakers and participants together 
 despite all odds\, and now for year three we are… \n\n … planning a (h
 ybrid) conference at a drive-in! This will allow us to maintain 1 ) our co
 olness factor but also 2 ) to accommodate various distancing needs. \n\n W
 hat will this hybrid event look like? There is a virtual and a live compon
 ent. Since the drive-in portion needs to start late in the day\, so the ta
 lks show on the screen\, the first part of the conference is fully virtual
 . After the live event starts\, the conference will stream the talks both 
 to the drive-in screen and online. \n\n What does this mean for you? \n\n 
 \n If you are an attendee that is planning to attend the live component at
  the drive-in\, you will need to purchase an In-Person Pass This will give
  you full access to the virtual event as well as the ability to attend the
  event at the drive-in. Your pass will include dinner each night\, snacks\
 , and some awesome SWAG! \n If you are not planning on attending the live 
 event\, and only streaming virtually\, then you need the Virtual Experienc
 e Only. Only those who intend to not attend the live event and only stream
  need a virtual pass. \n \n
LAST-MODIFIED:20230322T175158
LOCATION:Buffalo\, NY
ORGANIZER:mailto:buffalo@devopsdays.org
SUMMARY:DevOps Days Buffalo 2021
URL;VALUE=URI:https://ti.to/devops-days-buffalo/devops-days-buffalo-2021
URL;VALUE=URI:https://ti.to/devops-days-buffalo/devops-days-buffalo-2021
END:VEVENT
END:VCALENDAR
