BEGIN:VCALENDAR
VERSION:2.0
PRODID:icalendar-ruby
CALSCALE:GREGORIAN
BEGIN:VTIMEZONE
TZID:America/New_York
BEGIN:DAYLIGHT
DTSTART:20200308T030000
TZOFFSETFROM:-0500
TZOFFSETTO:-0400
RRULE:FREQ=YEARLY;BYDAY=2SU;BYMONTH=3
TZNAME:EDT
END:DAYLIGHT
BEGIN:STANDARD
DTSTART:20201101T010000
TZOFFSETFROM:-0400
TZOFFSETTO:-0500
RRULE:FREQ=YEARLY;BYDAY=1SU;BYMONTH=11
TZNAME:EST
END:STANDARD
END:VTIMEZONE
BEGIN:VEVENT
DTSTAMP:20260419T172802Z
UID:6wzx0w
DTSTART;VALUE=DATE:20201001
DTEND;VALUE=DATE:20201002
CLASS:PUBLIC
CREATED:20200225T094749
DESCRIPTION: DevOps Day Buffalo is here! DevOps Days is a worldwide series 
 of technical conferences covering topics of software development\, IT infr
 astructure operations\, and the intersection between them. \n\n  \n
LAST-MODIFIED:20230322T175158
LOCATION:Buffalo\, NY
ORGANIZER:mailto:buffalo@devopsdays.org
SUMMARY:DevOps Days Buffalo 2020
URL;VALUE=URI:https://ti.to/devops-days-buffalo/2020
URL;VALUE=URI:https://ti.to/devops-days-buffalo/2020
END:VEVENT
END:VCALENDAR
