BEGIN:VCALENDAR
VERSION:2.0
PRODID:icalendar-ruby
CALSCALE:GREGORIAN
BEGIN:VTIMEZONE
TZID:Europe/Rome
BEGIN:DAYLIGHT
DTSTART:20260329T030000
TZOFFSETFROM:+0100
TZOFFSETTO:+0200
RRULE:FREQ=YEARLY;BYDAY=-1SU;BYMONTH=3
TZNAME:CEST
END:DAYLIGHT
BEGIN:STANDARD
DTSTART:20251026T020000
TZOFFSETFROM:+0200
TZOFFSETTO:+0100
RRULE:FREQ=YEARLY;BYDAY=-1SU;BYMONTH=10
TZNAME:CET
END:STANDARD
END:VTIMEZONE
BEGIN:VEVENT
DTSTAMP:20260421T083125Z
UID:kuXH8g
DTSTART;TZID=Europe/Rome:20251102T083000
DTEND;TZID=Europe/Rome:20251104T180000
CLASS:PUBLIC
CREATED:20250207T141026
DESCRIPTION: RustLab is the International conference in Florence\, Italy\, 
 about Rust. \n
LAST-MODIFIED:20260209T165912
LOCATION:
ORGANIZER:mailto:info@rustlab.it
SUMMARY:RustLab 2025
URL;VALUE=URI:https://ti.to/develer/rustlab-2025
URL;VALUE=URI:https://ti.to/develer/rustlab-2025
END:VEVENT
END:VCALENDAR
