BEGIN:VCALENDAR
VERSION:2.0
PRODID:icalendar-ruby
CALSCALE:GREGORIAN
BEGIN:VTIMEZONE
TZID:America/Mexico_City
BEGIN:STANDARD
DTSTART:20221030T010000
TZOFFSETFROM:-0500
TZOFFSETTO:-0600
TZNAME:CST
END:STANDARD
END:VTIMEZONE
BEGIN:VEVENT
DTSTAMP:20260422T191733Z
UID:TkddPg
DTSTART;VALUE=DATE:20240131
DTEND;VALUE=DATE:20240202
CLASS:PUBLIC
CREATED:20230327T010249
DESCRIPTION: Want to participate with your team? We offer GROUP DISCOUNTS. 
 The larger the group\, the larger the discount. Send a e-mail to elsie@des
 ignmatters.io to get your deal. \n\n Want to pay by invoice? Send us an em
 ail at michael@designmatters.io for this option. \n
LAST-MODIFIED:20241216T021746
LOCATION:Ciudad de México
ORGANIZER:mailto:michael@designmatters.io
SUMMARY:Design Matters Mexico 24
URL;VALUE=URI:https://ti.to/design-matters/design-matters-mexico-24
URL;VALUE=URI:https://ti.to/design-matters/design-matters-mexico-24
END:VEVENT
END:VCALENDAR
