BEGIN:VCALENDAR
VERSION:2.0
PRODID:icalendar-ruby
CALSCALE:GREGORIAN
BEGIN:VTIMEZONE
TZID:Europe/Madrid
BEGIN:DAYLIGHT
DTSTART:20210328T030000
TZOFFSETFROM:+0100
TZOFFSETTO:+0200
RRULE:FREQ=YEARLY;BYDAY=-1SU;BYMONTH=3
TZNAME:CEST
END:DAYLIGHT
BEGIN:STANDARD
DTSTART:20201025T020000
TZOFFSETFROM:+0200
TZOFFSETTO:+0100
RRULE:FREQ=YEARLY;BYDAY=-1SU;BYMONTH=10
TZNAME:CET
END:STANDARD
END:VTIMEZONE
BEGIN:VEVENT
DTSTAMP:20260425T225431Z
UID:7Tq39Q
DTSTART;VALUE=DATE:20201203
DTEND;VALUE=DATE:20201204
CLASS:PUBLIC
CREATED:20200722T121921
DESCRIPTION: Limited capacity IN PERSON event with many venue safety measur
 es in place such as\ntemperature testing of all event delegates\, school r
 oom speaker session set up\nwith social distancing\, multiple sanitisation
  points\, one-way delegate traffic\nflows &amp\; staggered networking brea
 ks. \n\n The event capacity will be limited to 60 executives attending\, w
 e feel taking these steps will ensure a safe environment for everyone invo
 lved. \n\n Exclusive peer to peer event with inspirational speakers\, roun
 dtable discussions and one to one meetings. \n\n www.digitalenterprisefest
 .com/bcn \n\n The Iberian brands are changing the face of digital innovati
 on and we’re offering C-Level executives a front-row seat. At this event
 \, you’ll be able to have peer to peer discussions with other leaders in
  digital innovation. You can share your learnings\, raise questions and ge
 t the most up to date insight into digital innovation from across the glob
 e. \n\n Our talks are from speakers representing large-scale enterprises\,
  who offer first-hand insights into everything from digital eco-systems to
  data management systems. As a rapidly changing industry\, it’s vital to
  stay one step ahead\, and this event will offer you an exclusive opportun
 ity to understand how the most cutting edge companies are maintaining thei
 r position as world leaders in digital innovation. \n\n Themes are centred
  around: \n\n Tech\nAI &amp\; Automation\nCustomer Engagement\nData &amp\;
  Analytics \n\n Learn New Skills &amp\; Strategies\nMeet digital Leaders F
 rom The World’s Most Successful B2B &amp\; B2C Brands\nCustomise Your Ow
 n Itinerary\nTalks\, Panel Debates\, Workshops &amp\; 121 Meetings\nNetwor
 k &amp\; Benchmark with senior-level executives \n\n If you need to contac
 t us please call us on 00 34 936 061 0000 or email enquiry@digitalenterpri
 sefest.com \n
LAST-MODIFIED:20210323T213619
LOCATION:Barcelona\,Spain
ORGANIZER:mailto:craig@digitalenterprisefest.com
SUMMARY:Barcelona Digital Festival 2020
URL;VALUE=URI:https://ti.to/dee/bcndef-2020
URL;VALUE=URI:https://ti.to/dee/bcndef-2020
END:VEVENT
END:VCALENDAR
