BEGIN:VCALENDAR
VERSION:2.0
PRODID:icalendar-ruby
CALSCALE:GREGORIAN
BEGIN:VEVENT
DTSTAMP:20260422T091110Z
UID:ruondA
DTSTART;VALUE=DATE:20151203
DTEND;VALUE=DATE:20151204
CLASS:PUBLIC
CREATED:20151125T081617
DESCRIPTION: La charla se realizará el próximo Jueves 3 de Diciembre en e
 l Salón de Actos de la Escuela Superior de Tecnología y Ciencias Experim
 entales de la Universitat Jaume I (en el tercer piso) \n\n Todo lo que deb
 es tener en cuenta para conseguir atraer tráfico orgánico cualificado qu
 e se convierta en ventas para tu comercio online. En la presentación desc
 ubrirás cómo \n\n \n Definir a tu cliente potencial \n Detectar nichos d
 e mercado para tu e-commerce \n Identificar los patrones de búsquedas de 
 tu público objetivo \n Generar contenido adecuado tanto para los buscador
 es como para los usuarios \n \n\n El ponente \n\n Fernando Maciá es direc
 tor general de la consultora de marketing online y posicionamiento en  bus
 cadores Human Level Communications. Licenciado en CC. de la Información (
 Comunicación Audiovisual) por la Universidad Complutense\, Máster en Dir
 ección de Marketing por ICADE y MBA por FUNDESEM.  \n\n Es autor de los l
 ibros Posicionamiento en Buscadores\, Marketing Online\, Marketing con Red
 es Sociales\, Técnicas avanzadas de posicionamiento en buscadores\, Marke
 ting Online 2.0. y SEO Técnicas Avanzadas\, publicados por Anaya Multimed
 ia\, así como de decenas de artículos. Es profesor de marketing online e
 n la Universitat Pompeu Fabra\, CEU Cardenal Herrera\, Universidad Polité
 cnica de Madrid\, Universidad de Zaragoza\, Universidad de Alicante\, Univ
 ersidad Pontificia Bolivariana de Colombia\, CEU Business School y KSchool
 . Ponente habitual en eventos como SMX\, OME\, eShow\, OMExpo\, Internet e
 s tuyo\, Evento SEO\, Congreso SEO Profesional\, Search Congress\, FICOD. 
 \n\n \n\n Mas información en decharlas.com \n
LAST-MODIFIED:20151125T091808
LOCATION:
ORGANIZER:mailto:contacto@decharlas.com
SUMMARY:SEO para e-commerce
URL;VALUE=URI:https://ti.to/decharlas/seo-para-e-commerce
URL;VALUE=URI:https://ti.to/decharlas/seo-para-e-commerce
END:VEVENT
END:VCALENDAR
