BEGIN:VCALENDAR
VERSION:2.0
PRODID:icalendar-ruby
CALSCALE:GREGORIAN
BEGIN:VEVENT
DTSTAMP:20260425T184652Z
UID:O8Odww
DTSTART;VALUE=DATE:20200708
DTEND;VALUE=DATE:20200709
CLASS:PUBLIC
CREATED:20200323T122602
DESCRIPTION: Castlerea CC Debs 2020 hosted by Debs Republic \n\n You will b
 e sent e-Tickets upon purchase \n\n Tickets must be available for inspecti
 on at certain times \n\n R.O.A.R \n
LAST-MODIFIED:20260424T193804
LOCATION:The Oldcastle House Hotel
ORGANIZER:mailto:cian@debsrepublic.ie
SUMMARY:Castlerea CC Debs 2020
URL;VALUE=URI:https://ti.to/debs-republic/castlerea-debs-2020
URL;VALUE=URI:https://ti.to/debs-republic/castlerea-debs-2020
END:VEVENT
END:VCALENDAR
