BEGIN:VCALENDAR
VERSION:2.0
PRODID:icalendar-ruby
CALSCALE:GREGORIAN
BEGIN:VTIMEZONE
TZID:Europe/Amsterdam
BEGIN:DAYLIGHT
DTSTART:20240331T030000
TZOFFSETFROM:+0100
TZOFFSETTO:+0200
RRULE:FREQ=YEARLY;BYDAY=-1SU;BYMONTH=3
TZNAME:CEST
END:DAYLIGHT
BEGIN:STANDARD
DTSTART:20241027T020000
TZOFFSETFROM:+0200
TZOFFSETTO:+0100
RRULE:FREQ=YEARLY;BYDAY=-1SU;BYMONTH=10
TZNAME:CET
END:STANDARD
END:VTIMEZONE
BEGIN:VEVENT
DTSTAMP:20260420T202312Z
UID:cosbdA
DTSTART;TZID=Europe/Amsterdam:20240603T090000
DTEND;TZID=Europe/Amsterdam:20240607T190000
CLASS:PUBLIC
CREATED:20230707T144746
LAST-MODIFIED:20241219T075524
LOCATION:Amsterdam\, The Netherlands
ORGANIZER:mailto:contact@dddeurope.com
SUMMARY:DDD Europe 2024
URL;VALUE=URI:https://ti.to/dddbv/dddeu24
URL;VALUE=URI:https://ti.to/dddbv/dddeu24
END:VEVENT
END:VCALENDAR
