BEGIN:VCALENDAR
VERSION:2.0
PRODID:icalendar-ruby
CALSCALE:GREGORIAN
BEGIN:VTIMEZONE
TZID:Australia/Brisbane
BEGIN:STANDARD
DTSTART:19920301T020000
TZOFFSETFROM:+1100
TZOFFSETTO:+1000
TZNAME:AEST
END:STANDARD
END:VTIMEZONE
BEGIN:VEVENT
DTSTAMP:20260420T052942Z
UID:Vywttw
DTSTART;VALUE=DATE:20251206
DTEND;VALUE=DATE:20251207
CLASS:PUBLIC
CREATED:20250228T111307
DESCRIPTION: DDD Brisbane is a non profit community event run by developers
  for developers. Anyone can submit a session to the event and delegates th
 en vote on the sessions they want to see. \n
LAST-MODIFIED:20251204T113721
LOCATION:QUT Gardens Point\, Brisbane City
ORGANIZER:mailto:info@dddbrisbane.com
SUMMARY:DDD Brisbane 2025
URL;VALUE=URI:https://ti.to/ddd-brisbane/ddd-brisbane-2025
URL;VALUE=URI:https://ti.to/ddd-brisbane/ddd-brisbane-2025
END:VEVENT
END:VCALENDAR
