BEGIN:VCALENDAR
VERSION:2.0
PRODID:icalendar-ruby
CALSCALE:GREGORIAN
BEGIN:VEVENT
DTSTAMP:20260425T220057Z
UID:v0AnZg
DTSTART;VALUE=DATE:20211014
DTEND;VALUE=DATE:20211015
CLASS:PUBLIC
CREATED:20210719T105609
LAST-MODIFIED:20260317T150601
LOCATION:Webinar
ORGANIZER:mailto:sian@dataorchard.org.uk
SUMMARY:Using our Data Maturity Assessment tool - an introduction for agenc
 ies and partners
URL;VALUE=URI:https://ti.to/data-orchard/using-our-data-maturity-tool-an-in
 troduction-for-agencies-and-partners
URL;VALUE=URI:https://ti.to/data-orchard/using-our-data-maturity-tool-an-in
 troduction-for-agencies-and-partners
END:VEVENT
BEGIN:VEVENT
DTSTAMP:20260425T220057Z
UID:v0AnZg1039300
DTSTART:20211014T120000
DTEND:20211014T130000
CLASS:PUBLIC
CREATED:20210719T110303
DESCRIPTION:<span class="colour" style="color: rgb(34\, 34\, 34)\;">Join fr
 om a PC\, Mac\, iPad\, iPhone or Android device:</span>\n<span class="colo
 ur" style="color: rgb(34\, 34\, 34)\;">Please click this URL to join.</spa
 n> [https://us06web.zoom.us/j/88176322320?pwd=WUliL2ZiOHVNQVZlQVh3eWhrK2R6
 QT09](https://www.google.com/url?q=https%3A%2F%2Fus06web.zoom.us%2Fj%2F881
 76322320%3Fpwd%3DWUliL2ZiOHVNQVZlQVh3eWhrK2R6QT09&sa=D&ust=163448280045400
 0&usg=AOvVaw1B7Ipp_wZVt3HT1NQknBA2)\n<span class="colour" style="color: rg
 b(34\, 34\, 34)\;">Passcode: 307610</span>\nOr One tap mobile:\n+442080806
 592\,\,88176322320#\,\,\,\,\\*307610# United Kingdom\n+443300885830\,\,881
 76322320#\,\,\,\,\\*307610# United KingdomOr join by phone:\nDial(for high
 er quality\, dial a number based on your current location):\nUnited Kingdo
 m: +44 208 080 6592 or +44 330 088 5830 or +44 131 460 1196 or +44 203 481
  5237 or +44 203 481 5240 or +44 203 901 7895 or +44 208 080 6591\nUS: +1 
 253 215 8782 or +1 301 715 8592 or +1 312 626 6799 or +1 346 248 7799 or +
 1 669 900 6833 or +1 929 205 6099\nWebinar ID: 881 7632 2320\nPasscode: 30
 7610\nInternational numbers available: [https://us06web.zoom.us/u/kcKt3rcV
 HR](https://www.google.com/url?q=https%3A%2F%2Fus06web.zoom.us%2Fu%2FkcKt3
 rcVHR&sa=D&ust=1634482800454000&usg=AOvVaw0iS2Aneb982bNU9xfgu3h5)
LAST-MODIFIED:20211013T091434
ORGANIZER:mailto:sian@dataorchard.org.uk
SUMMARY:[Using our Data Maturity Assessment tool - an introduction for agen
 cies and partners] Webinar
URL;VALUE=URI:https://ti.to/data-orchard/using-our-data-maturity-tool-an-in
 troduction-for-agencies-and-partners
X-ALT-DESC;FMTTYPE=text/html:<span class="colour" style="color: rgb(34\, 34
 \, 34)\;">Join from a PC\, Mac\, iPad\, iPhone or Android device:</span>\n
 <span class="colour" style="color: rgb(34\, 34\, 34)\;">Please click this 
 URL to join.</span> [https://us06web.zoom.us/j/88176322320?pwd=WUliL2ZiOHV
 NQVZlQVh3eWhrK2R6QT09](https://www.google.com/url?q=https%3A%2F%2Fus06web.
 zoom.us%2Fj%2F88176322320%3Fpwd%3DWUliL2ZiOHVNQVZlQVh3eWhrK2R6QT09&sa=D&us
 t=1634482800454000&usg=AOvVaw1B7Ipp_wZVt3HT1NQknBA2)\n<span class="colour"
  style="color: rgb(34\, 34\, 34)\;">Passcode: 307610</span>\nOr One tap mo
 bile:\n+442080806592\,\,88176322320#\,\,\,\,\\*307610# United Kingdom\n+44
 3300885830\,\,88176322320#\,\,\,\,\\*307610# United KingdomOr join by phon
 e:\nDial(for higher quality\, dial a number based on your current location
 ):\nUnited Kingdom: +44 208 080 6592 or +44 330 088 5830 or +44 131 460 11
 96 or +44 203 481 5237 or +44 203 481 5240 or +44 203 901 7895 or +44 208 
 080 6591\nUS: +1 253 215 8782 or +1 301 715 8592 or +1 312 626 6799 or +1 
 346 248 7799 or +1 669 900 6833 or +1 929 205 6099\nWebinar ID: 881 7632 2
 320\nPasscode: 307610\nInternational numbers available: [https://us06web.z
 oom.us/u/kcKt3rcVHR](https://www.google.com/url?q=https%3A%2F%2Fus06web.zo
 om.us%2Fu%2FkcKt3rcVHR&sa=D&ust=1634482800454000&usg=AOvVaw0iS2Aneb982bNU9
 xfgu3h5)
URL;VALUE=URI:https://ti.to/data-orchard/using-our-data-maturity-tool-an-in
 troduction-for-agencies-and-partners
END:VEVENT
END:VCALENDAR
