BEGIN:VCALENDAR
VERSION:2.0
PRODID:icalendar-ruby
CALSCALE:GREGORIAN
BEGIN:VTIMEZONE
TZID:Europe/London
BEGIN:DAYLIGHT
DTSTART:20220327T020000
TZOFFSETFROM:+0000
TZOFFSETTO:+0100
RRULE:FREQ=YEARLY;BYDAY=-1SU;BYMONTH=3
TZNAME:BST
END:DAYLIGHT
BEGIN:STANDARD
DTSTART:20221030T010000
TZOFFSETFROM:+0100
TZOFFSETTO:+0000
RRULE:FREQ=YEARLY;BYDAY=-1SU;BYMONTH=10
TZNAME:GMT
END:STANDARD
END:VTIMEZONE
BEGIN:VEVENT
DTSTAMP:20260421T120304Z
UID:Z2aEWA
DTSTART;VALUE=DATE:20220524
DTEND;VALUE=DATE:20220525
CLASS:PUBLIC
CREATED:20220215T161117
DESCRIPTION: This webinar is for anyone who supports organisations to get b
 etter with data\, including consultants\, businesses\, freelancers\, volun
 teers\, and charities/pro-bono schemes that work to build the data capabil
 ities of client organisations. \n\n WHAT YOU WILL LEARN: \n\n \n About the
  free tools and resources available to support your engagement with client
 s\, especially those in the not-for-profit and public sectors \n How you c
 an customise the premium version of our Data Maturity Assessment tool\, in
 cluding branding \n Different approaches to engaging your clients in the d
 ata maturity assessment process \n Additional support from Data Orchard e.
 g. internal benchmarking and repeat assessments \n Benefits and rewards of
  data maturity for you\, your clients\, and the wider sector. \n \n\n ** W
 e’ll also be delighted to hear from our guest speaker at the event: Rob 
 Gethen Smith\, Director\, Business and Digital Consulting at Equantiis ** 
 \n
LAST-MODIFIED:20260317T150601
LOCATION:Zoom
ORGANIZER:mailto:sian@dataorchard.org.uk
SUMMARY:Using our Data Maturity Assessment Tool - An Introduction for Agenc
 ies and Partners
URL;VALUE=URI:https://ti.to/data-orchard/using-our-data-maturity-assessment
 -tool
URL;VALUE=URI:https://ti.to/data-orchard/using-our-data-maturity-assessment
 -tool
END:VEVENT
BEGIN:VEVENT
DTSTAMP:20260421T120304Z
UID:Z2aEWA1043822
DTSTART;TZID=Europe/London:20220524T120000
DTEND;TZID=Europe/London:20220524T130000
CLASS:PUBLIC
CREATED:20220215T161118
DESCRIPTION:<span class="colour" style="color: rgb(40\, 60\, 70)\;">Join Zo
 om Meeting</span>\n[https://us06web.zoom.us/j/81191122503](https://us06web
 .zoom.us/j/81191122503)\n\n<span class="colour" style="color: rgb(40\, 60\
 , 70)\;">Meeting ID: 811 9112 2503</span>
LAST-MODIFIED:20220222T101428
ORGANIZER:mailto:sian@dataorchard.org.uk
SUMMARY:[Using our Data Maturity Assessment Tool - An Introduction for Agen
 cies and Partners] Webinar
URL;VALUE=URI:https://ti.to/data-orchard/using-our-data-maturity-assessment
 -tool
X-ALT-DESC;FMTTYPE=text/html:<span class="colour" style="color: rgb(40\, 60
 \, 70)\;">Join Zoom Meeting</span>\n[https://us06web.zoom.us/j/81191122503
 ](https://us06web.zoom.us/j/81191122503)\n\n<span class="colour" style="co
 lor: rgb(40\, 60\, 70)\;">Meeting ID: 811 9112 2503</span>
URL;VALUE=URI:https://ti.to/data-orchard/using-our-data-maturity-assessment
 -tool
END:VEVENT
END:VCALENDAR
