BEGIN:VCALENDAR
VERSION:2.0
PRODID:icalendar-ruby
CALSCALE:GREGORIAN
BEGIN:VTIMEZONE
TZID:Europe/London
BEGIN:DAYLIGHT
DTSTART:20230326T020000
TZOFFSETFROM:+0000
TZOFFSETTO:+0100
RRULE:FREQ=YEARLY;BYDAY=-1SU;BYMONTH=3
TZNAME:BST
END:DAYLIGHT
BEGIN:STANDARD
DTSTART:20221030T010000
TZOFFSETFROM:+0100
TZOFFSETTO:+0000
RRULE:FREQ=YEARLY;BYDAY=-1SU;BYMONTH=10
TZNAME:GMT
END:STANDARD
END:VTIMEZONE
BEGIN:VEVENT
DTSTAMP:20260419T144050Z
UID:lKTzqg
DTSTART;VALUE=DATE:20221110
DTEND;VALUE=DATE:20221111
CLASS:PUBLIC
CREATED:20220906T112754
DESCRIPTION: Workshop \n\n Come along and pool your skills and knowledge wi
 th others from non-profit organisations. \n\n This will be a participative
  workshop with the aim of sharing experience and knowledge around data too
 ls in no more than an hour. Data Orchard CIC will be facilitating the work
 shop but the content will be from you and your peers in non-profit organis
 ations. \n\n It will be fun\, focused and free. \n\n What it's all about \
 n\n It's an opportunity to talk to other people about data tools. It's a c
 hance to share what has worked and not worked for you. It's an opportunity
  to find out what other people have tried\, and where they have succeeded.
  \n\n You do not need to be an expert on data tools\, you just need to hav
 e an interest in data tools. And a willingness to get stuck in to a worksh
 op for an hour. \n\n What will happen \n\n We'll be on Zoom but this will 
 be a workshop\, not a webinar.\nYou'll work in small groups in breakout ro
 oms discussing different aspects of data strategy in non-profits. We'll as
 k groups to record the key points of the discussion on a Google Doc. Then 
 we'll share the Google Doc with everyone who took part in the workshop. \n
 \n Who should attend \n\n Anyone who works in a non-profit organisation an
 d is interested in data tools. You don't need to be a data expert (though 
 data experts are very welcome). You don't need to be a manager (though if 
 you are a manager that's also great).  \n\n All you need is an interest in
  data strategy in non-profits\, an internet connection and the willingness
  to take part in an interactive workshop. \n\n Why we are doing this \n\n 
 Data Orchard CIC is a social enterprise with a mission to help organisatio
 ns use better data for greater impact. We want to support and strengthen t
 he community of people working to improve data in non-profit organisations
 . One way of doing that is to offer free events for that community. \n
LAST-MODIFIED:20260317T150601
LOCATION:Online Workshop
ORGANIZER:mailto:ben@dataorchard.org.uk
SUMMARY:Workshop: Tools for data analysis\, management and communication
URL;VALUE=URI:https://ti.to/data-orchard/the-greatest-data-strategy-ever-co
 py
URL;VALUE=URI:https://ti.to/data-orchard/the-greatest-data-strategy-ever-co
 py
END:VEVENT
BEGIN:VEVENT
DTSTAMP:20260419T144050Z
UID:lKTzqg1048952
DTSTART;TZID=Europe/London:20221110T130000
DTEND;TZID=Europe/London:20221110T140000
CLASS:PUBLIC
CREATED:20220906T113659
DESCRIPTION:Participative workshop on data tools.\nJoin here:\n<span class=
 "colour" style="color: rgb(0\, 0\, 0)\;">[https://us06web.zoom.us/j/891357
 59387?pwd=MEFOREY4NFI2NkZUQk1NeGFIZjF3Zz09](https://us06web.zoom.us/j/8913
 5759387?pwd=MEFOREY4NFI2NkZUQk1NeGFIZjF3Zz09)</span>\n<span class="colour"
  style="color: rgb(0\, 0\, 0)\;">Meeting ID: 891 3575 9387 Passcode: 64446
 0</span>
LAST-MODIFIED:20221110T095412
ORGANIZER:mailto:ben@dataorchard.org.uk
SUMMARY:[Workshop: Tools for data analysis\, management and communication] 
 Workshop
URL;VALUE=URI:https://ti.to/data-orchard/the-greatest-data-strategy-ever-co
 py
X-ALT-DESC;FMTTYPE=text/html:Participative workshop on data tools.\nJoin he
 re:\n<span class="colour" style="color: rgb(0\, 0\, 0)\;">[https://us06web
 .zoom.us/j/89135759387?pwd=MEFOREY4NFI2NkZUQk1NeGFIZjF3Zz09](https://us06w
 eb.zoom.us/j/89135759387?pwd=MEFOREY4NFI2NkZUQk1NeGFIZjF3Zz09)</span>\n<sp
 an class="colour" style="color: rgb(0\, 0\, 0)\;">Meeting ID: 891 3575 938
 7 Passcode: 644460</span>
URL;VALUE=URI:https://ti.to/data-orchard/the-greatest-data-strategy-ever-co
 py
END:VEVENT
END:VCALENDAR
